BEGIN:VCALENDAR
VERSION:2.0
PRODID:-//Paroisses Merlevenez - ECPv6.15.20//NONSGML v1.0//EN
CALSCALE:GREGORIAN
METHOD:PUBLISH
X-ORIGINAL-URL:https://paroisses-mnsh.fr
X-WR-CALDESC:Évènements pour Paroisses Merlevenez
REFRESH-INTERVAL;VALUE=DURATION:PT1H
X-Robots-Tag:noindex
X-PUBLISHED-TTL:PT1H
BEGIN:VTIMEZONE
TZID:Europe/Paris
BEGIN:DAYLIGHT
TZOFFSETFROM:+0100
TZOFFSETTO:+0200
TZNAME:CEST
DTSTART:20250330T010000
END:DAYLIGHT
BEGIN:STANDARD
TZOFFSETFROM:+0200
TZOFFSETTO:+0100
TZNAME:CET
DTSTART:20251026T010000
END:STANDARD
BEGIN:DAYLIGHT
TZOFFSETFROM:+0100
TZOFFSETTO:+0200
TZNAME:CEST
DTSTART:20260329T010000
END:DAYLIGHT
BEGIN:STANDARD
TZOFFSETFROM:+0200
TZOFFSETTO:+0100
TZNAME:CET
DTSTART:20261025T010000
END:STANDARD
BEGIN:DAYLIGHT
TZOFFSETFROM:+0100
TZOFFSETTO:+0200
TZNAME:CEST
DTSTART:20270328T010000
END:DAYLIGHT
BEGIN:STANDARD
TZOFFSETFROM:+0200
TZOFFSETTO:+0100
TZNAME:CET
DTSTART:20271031T010000
END:STANDARD
END:VTIMEZONE
BEGIN:VEVENT
DTSTART;TZID=Europe/Paris:20260402T190000
DTEND;TZID=Europe/Paris:20260402T190000
DTSTAMP:20260421T135229
CREATED:20240326T192748Z
LAST-MODIFIED:20260329T070607Z
UID:4170-1775156400-1775156400@paroisses-mnsh.fr
SUMMARY:Messe en mémoire de la Cène du Seigneur - Eglise de Nostang
DESCRIPTION:
URL:https://paroisses-mnsh.fr/evenement/messe-en-memoire-de-la-cene-du-seigneur-eglise-de-nostang/
CATEGORIES:Evènement accueil
ATTACH;FMTTYPE=image/jpeg:https://paroisses-mnsh.fr/wp-content/uploads/2021/03/sainte-cene.jpg
END:VEVENT
END:VCALENDAR