BEGIN:VCALENDAR
VERSION:2.0
PRODID:-//Paroisses Merlevenez - ECPv6.15.20//NONSGML v1.0//EN
CALSCALE:GREGORIAN
METHOD:PUBLISH
X-ORIGINAL-URL:https://paroisses-mnsh.fr
X-WR-CALDESC:Évènements pour Paroisses Merlevenez
REFRESH-INTERVAL;VALUE=DURATION:PT1H
X-Robots-Tag:noindex
X-PUBLISHED-TTL:PT1H
BEGIN:VTIMEZONE
TZID:Europe/Paris
BEGIN:DAYLIGHT
TZOFFSETFROM:+0100
TZOFFSETTO:+0200
TZNAME:CEST
DTSTART:20250330T010000
END:DAYLIGHT
BEGIN:STANDARD
TZOFFSETFROM:+0200
TZOFFSETTO:+0100
TZNAME:CET
DTSTART:20251026T010000
END:STANDARD
BEGIN:DAYLIGHT
TZOFFSETFROM:+0100
TZOFFSETTO:+0200
TZNAME:CEST
DTSTART:20260329T010000
END:DAYLIGHT
BEGIN:STANDARD
TZOFFSETFROM:+0200
TZOFFSETTO:+0100
TZNAME:CET
DTSTART:20261025T010000
END:STANDARD
BEGIN:DAYLIGHT
TZOFFSETFROM:+0100
TZOFFSETTO:+0200
TZNAME:CEST
DTSTART:20270328T010000
END:DAYLIGHT
BEGIN:STANDARD
TZOFFSETFROM:+0200
TZOFFSETTO:+0100
TZNAME:CET
DTSTART:20271031T010000
END:STANDARD
END:VTIMEZONE
BEGIN:VEVENT
DTSTART;TZID=Europe/Paris:20260418T183000
DTEND;TZID=Europe/Paris:20260418T183000
DTSTAMP:20260421T135035
CREATED:20251012T071316Z
LAST-MODIFIED:20260414T150615Z
UID:4285-1776537000-1776537000@paroisses-mnsh.fr
SUMMARY:Messe - Eglise de Sainte-Hélène
DESCRIPTION:
URL:https://paroisses-mnsh.fr/evenement/messe-eglise-de-sainte-helene-6/
CATEGORIES:Evènement accueil
ATTACH;FMTTYPE=image/jpeg:https://paroisses-mnsh.fr/wp-content/uploads/2017/12/380px-Église_Sainte-Hélène_Sainte-Hélène_Morbihan_4121.jpg
END:VEVENT
END:VCALENDAR