BEGIN:VCALENDAR
VERSION:2.0
PRODID:-//Paroisses Merlevenez - ECPv6.15.20//NONSGML v1.0//EN
CALSCALE:GREGORIAN
METHOD:PUBLISH
X-WR-CALNAME:Paroisses Merlevenez
X-ORIGINAL-URL:https://paroisses-mnsh.fr
X-WR-CALDESC:Évènements pour Paroisses Merlevenez
REFRESH-INTERVAL;VALUE=DURATION:PT1H
X-Robots-Tag:noindex
X-PUBLISHED-TTL:PT1H
BEGIN:VTIMEZONE
TZID:Europe/Paris
BEGIN:DAYLIGHT
TZOFFSETFROM:+0100
TZOFFSETTO:+0200
TZNAME:CEST
DTSTART:20230326T010000
END:DAYLIGHT
BEGIN:STANDARD
TZOFFSETFROM:+0200
TZOFFSETTO:+0100
TZNAME:CET
DTSTART:20231029T010000
END:STANDARD
BEGIN:DAYLIGHT
TZOFFSETFROM:+0100
TZOFFSETTO:+0200
TZNAME:CEST
DTSTART:20240331T010000
END:DAYLIGHT
BEGIN:STANDARD
TZOFFSETFROM:+0200
TZOFFSETTO:+0100
TZNAME:CET
DTSTART:20241027T010000
END:STANDARD
BEGIN:DAYLIGHT
TZOFFSETFROM:+0100
TZOFFSETTO:+0200
TZNAME:CEST
DTSTART:20250330T010000
END:DAYLIGHT
BEGIN:STANDARD
TZOFFSETFROM:+0200
TZOFFSETTO:+0100
TZNAME:CET
DTSTART:20251026T010000
END:STANDARD
END:VTIMEZONE
BEGIN:VEVENT
DTSTART;TZID=Europe/Paris:20241101T093000
DTEND;TZID=Europe/Paris:20241101T093000
DTSTAMP:20260425T181723
CREATED:20231029T164317Z
LAST-MODIFIED:20241029T080208Z
UID:4116-1730453400-1730453400@paroisses-mnsh.fr
SUMMARY:Messe de la Toussaint suivie de la procession au cimetière - Eglise de Nostang
DESCRIPTION:
URL:https://paroisses-mnsh.fr/evenement/messe-de-la-toussaint-suivie-de-la-procession-au-cimetiere-eglise-de-nostang-3/
CATEGORIES:Evènement accueil
ATTACH;FMTTYPE=image/jpeg:https://paroisses-mnsh.fr/wp-content/uploads/2017/12/33347836.jpg
END:VEVENT
BEGIN:VEVENT
DTSTART;TZID=Europe/Paris:20241101T093000
DTEND;TZID=Europe/Paris:20241101T093000
DTSTAMP:20260425T181723
CREATED:20201026T084853Z
LAST-MODIFIED:20241029T080259Z
UID:3353-1730453400-1730453400@paroisses-mnsh.fr
SUMMARY:Messe de la Toussaint suivie de la procession au cimetière - Eglise de Sainte-Hélène
DESCRIPTION:
URL:https://paroisses-mnsh.fr/evenement/messe-de-la-toussaint-suivie-de-la-procession-au-cimetiere-eglise-de-sainte-helene/
CATEGORIES:Evènement accueil
ATTACH;FMTTYPE=image/jpeg:https://paroisses-mnsh.fr/wp-content/uploads/2017/12/380px-Église_Sainte-Hélène_Sainte-Hélène_Morbihan_4121.jpg
END:VEVENT
BEGIN:VEVENT
DTSTART;TZID=Europe/Paris:20241101T110000
DTEND;TZID=Europe/Paris:20241101T110000
DTSTAMP:20260425T181723
CREATED:20201026T084127Z
LAST-MODIFIED:20241029T080338Z
UID:3344-1730458800-1730458800@paroisses-mnsh.fr
SUMMARY:Messe de la Toussaint suivie de la procession au cimetière - Eglise de Merlevenez
DESCRIPTION:
URL:https://paroisses-mnsh.fr/evenement/messe-de-la-toussaint-suivie-de-la-procession-au-cimetiere-eglise-de-merlevenez/
CATEGORIES:Evènement accueil
ATTACH;FMTTYPE=image/jpeg:https://paroisses-mnsh.fr/wp-content/uploads/2017/12/Église_Notre-Dame-de-Joie_Merlevenez_3738.jpg
END:VEVENT
BEGIN:VEVENT
DTSTART;TZID=Europe/Paris:20241102T093000
DTEND;TZID=Europe/Paris:20241102T093000
DTSTAMP:20260425T181723
CREATED:20231029T164543Z
LAST-MODIFIED:20241029T080539Z
UID:4118-1730539800-1730539800@paroisses-mnsh.fr
SUMMARY:Messe pour les défunts - Eglise de Merlevenez
DESCRIPTION:
URL:https://paroisses-mnsh.fr/evenement/messe-pour-les-defunts-eglise-de-merlevenez/
CATEGORIES:Evènement accueil
ATTACH;FMTTYPE=image/jpeg:https://paroisses-mnsh.fr/wp-content/uploads/2017/12/Église_Notre-Dame-de-Joie_Merlevenez_3738.jpg
END:VEVENT
BEGIN:VEVENT
DTSTART;TZID=Europe/Paris:20241129T110000
DTEND;TZID=Europe/Paris:20241129T110000
DTSTAMP:20260425T181723
CREATED:20240304T082457Z
LAST-MODIFIED:20241126T052834Z
UID:4152-1732878000-1732878000@paroisses-mnsh.fr
SUMMARY:Messe à la Marpa - Merlevenez
DESCRIPTION:
URL:https://paroisses-mnsh.fr/evenement/messe-a-la-marpa-merlevenez-2/
CATEGORIES:Evènement accueil
ATTACH;FMTTYPE=image/jpeg:https://paroisses-mnsh.fr/wp-content/uploads/2024/03/MARPA.jpg
END:VEVENT
END:VCALENDAR