BEGIN:VCALENDAR
VERSION:2.0
PRODID:-//Paroisses Merlevenez - ECPv6.15.20//NONSGML v1.0//EN
CALSCALE:GREGORIAN
METHOD:PUBLISH
X-ORIGINAL-URL:https://paroisses-mnsh.fr
X-WR-CALDESC:Évènements pour Paroisses Merlevenez
REFRESH-INTERVAL;VALUE=DURATION:PT1H
X-Robots-Tag:noindex
X-PUBLISHED-TTL:PT1H
BEGIN:VTIMEZONE
TZID:Europe/Paris
BEGIN:DAYLIGHT
TZOFFSETFROM:+0100
TZOFFSETTO:+0200
TZNAME:CEST
DTSTART:20240331T010000
END:DAYLIGHT
BEGIN:STANDARD
TZOFFSETFROM:+0200
TZOFFSETTO:+0100
TZNAME:CET
DTSTART:20241027T010000
END:STANDARD
BEGIN:DAYLIGHT
TZOFFSETFROM:+0100
TZOFFSETTO:+0200
TZNAME:CEST
DTSTART:20250330T010000
END:DAYLIGHT
BEGIN:STANDARD
TZOFFSETFROM:+0200
TZOFFSETTO:+0100
TZNAME:CET
DTSTART:20251026T010000
END:STANDARD
BEGIN:DAYLIGHT
TZOFFSETFROM:+0100
TZOFFSETTO:+0200
TZNAME:CEST
DTSTART:20260329T010000
END:DAYLIGHT
BEGIN:STANDARD
TZOFFSETFROM:+0200
TZOFFSETTO:+0100
TZNAME:CET
DTSTART:20261025T010000
END:STANDARD
END:VTIMEZONE
BEGIN:VEVENT
DTSTART;TZID=Europe/Paris:20251101T090000
DTEND;TZID=Europe/Paris:20251101T090000
DTSTAMP:20260421T195345
CREATED:20251028T155050Z
LAST-MODIFIED:20251028T160911Z
UID:4296-1761987600-1761987600@paroisses-mnsh.fr
SUMMARY:Messe de la Toussaint suivie de la procession au cimetière - église de Ste-Hélène
DESCRIPTION:La quête des messe du 1er novembre sera faite pour subvenir aux frais de chauffage de nos églises. \nMerci de votre générosité.
URL:https://paroisses-mnsh.fr/evenement/messe-de-la-toussaint-suivie-de-la-procession-au-cimetiere-eglise-de-ste-helene/
CATEGORIES:Evènement accueil
ATTACH;FMTTYPE=image/jpeg:https://paroisses-mnsh.fr/wp-content/uploads/2017/12/380px-Église_Sainte-Hélène_Sainte-Hélène_Morbihan_4121.jpg
END:VEVENT
BEGIN:VEVENT
DTSTART;TZID=Europe/Paris:20251101T090000
DTEND;TZID=Europe/Paris:20251101T090000
DTSTAMP:20260421T195345
CREATED:20251028T154830Z
LAST-MODIFIED:20251028T160719Z
UID:4294-1761987600-1761987600@paroisses-mnsh.fr
SUMMARY:Messe de la Toussaint suivie de la procession au cimetière - Eglise de Nostang
DESCRIPTION:La quête des messe du 1er novembre sera faite pour subvenir aux frais de chauffage de nos églises. \nMerci de votre générosité.
URL:https://paroisses-mnsh.fr/evenement/messe-de-la-toussaint-suivie-de-la-procession-au-cimetiere-eglise-de-nostang-4/
CATEGORIES:Evènement accueil
ATTACH;FMTTYPE=image/jpeg:https://paroisses-mnsh.fr/wp-content/uploads/2017/12/33347836.jpg
END:VEVENT
BEGIN:VEVENT
DTSTART;TZID=Europe/Paris:20251101T110000
DTEND;TZID=Europe/Paris:20251101T110000
DTSTAMP:20260421T195345
CREATED:20251028T155313Z
LAST-MODIFIED:20251028T161054Z
UID:4298-1761994800-1761994800@paroisses-mnsh.fr
SUMMARY:Messe de la Toussaint - Eglise de Merlevenez
DESCRIPTION:La quête des messe du 1er novembre sera faite pour subvenir aux frais de chauffage de nos églises. \nMerci de votre générosité.
URL:https://paroisses-mnsh.fr/evenement/messe-de-la-toussaint-eglise-de-merlevenez-2/
CATEGORIES:Evènement accueil
ATTACH;FMTTYPE=image/jpeg:https://paroisses-mnsh.fr/wp-content/uploads/2017/12/Église_Notre-Dame-de-Joie_Merlevenez_3738.jpg
END:VEVENT
BEGIN:VEVENT
DTSTART;TZID=Europe/Paris:20251102T103000
DTEND;TZID=Europe/Paris:20251102T103000
DTSTAMP:20260421T195345
CREATED:20251028T155647Z
LAST-MODIFIED:20251028T155647Z
UID:4300-1762079400-1762079400@paroisses-mnsh.fr
SUMMARY:Messe à l'église de Merlevenez suivie de la procession au cimetière
DESCRIPTION:Commémoration de tous les défunts
URL:https://paroisses-mnsh.fr/evenement/messe-a-leglise-de-merlevenez-suivie-de-la-procession-au-cimetiere/
CATEGORIES:Evènement accueil
ATTACH;FMTTYPE=image/jpeg:https://paroisses-mnsh.fr/wp-content/uploads/2017/12/Église_Notre-Dame-de-Joie_Merlevenez_3738.jpg
END:VEVENT
END:VCALENDAR