BEGIN:VCALENDAR
VERSION:2.0
PRODID:-//Paroisses Merlevenez - ECPv6.15.20//NONSGML v1.0//EN
CALSCALE:GREGORIAN
METHOD:PUBLISH
X-ORIGINAL-URL:https://paroisses-mnsh.fr
X-WR-CALDESC:Évènements pour Paroisses Merlevenez
REFRESH-INTERVAL;VALUE=DURATION:PT1H
X-Robots-Tag:noindex
X-PUBLISHED-TTL:PT1H
BEGIN:VTIMEZONE
TZID:Europe/Paris
BEGIN:DAYLIGHT
TZOFFSETFROM:+0100
TZOFFSETTO:+0200
TZNAME:CEST
DTSTART:20240331T010000
END:DAYLIGHT
BEGIN:STANDARD
TZOFFSETFROM:+0200
TZOFFSETTO:+0100
TZNAME:CET
DTSTART:20241027T010000
END:STANDARD
BEGIN:DAYLIGHT
TZOFFSETFROM:+0100
TZOFFSETTO:+0200
TZNAME:CEST
DTSTART:20250330T010000
END:DAYLIGHT
BEGIN:STANDARD
TZOFFSETFROM:+0200
TZOFFSETTO:+0100
TZNAME:CET
DTSTART:20251026T010000
END:STANDARD
BEGIN:DAYLIGHT
TZOFFSETFROM:+0100
TZOFFSETTO:+0200
TZNAME:CEST
DTSTART:20260329T010000
END:DAYLIGHT
BEGIN:STANDARD
TZOFFSETFROM:+0200
TZOFFSETTO:+0100
TZNAME:CET
DTSTART:20261025T010000
END:STANDARD
END:VTIMEZONE
BEGIN:VEVENT
DTSTART;TZID=Europe/Paris:20251217T180000
DTEND;TZID=Europe/Paris:20251217T180000
DTSTAMP:20260421T183130
CREATED:20251216T190459Z
LAST-MODIFIED:20251216T190459Z
UID:4319-1765994400-1765994400@paroisses-mnsh.fr
SUMMARY:Célébration pénitentielle - Eglise de Nostang
DESCRIPTION:
URL:https://paroisses-mnsh.fr/evenement/celebration-penitentielle-eglise-de-nostang-2/
CATEGORIES:Evènement accueil
ATTACH;FMTTYPE=image/jpeg:https://paroisses-mnsh.fr/wp-content/uploads/2025/12/liturgie-avent-proposition-penitentielle.jpg
END:VEVENT
BEGIN:VEVENT
DTSTART;TZID=Europe/Paris:20251224T200000
DTEND;TZID=Europe/Paris:20251224T200000
DTSTAMP:20260421T183130
CREATED:20251224T123050Z
LAST-MODIFIED:20251224T123050Z
UID:4324-1766606400-1766606400@paroisses-mnsh.fr
SUMMARY:Messe de la veillée de Noël - Eglise de Nostang
DESCRIPTION:
URL:https://paroisses-mnsh.fr/evenement/messe-de-la-veillee-de-noel-eglise-de-nostang/
CATEGORIES:Evènement accueil
ATTACH;FMTTYPE=image/jpeg:https://paroisses-mnsh.fr/wp-content/uploads/2018/11/nuit-de-noel.jpg
END:VEVENT
BEGIN:VEVENT
DTSTART;TZID=Europe/Paris:20251225T103000
DTEND;TZID=Europe/Paris:20251225T103000
DTSTAMP:20260421T183130
CREATED:20251216T190027Z
LAST-MODIFIED:20251224T122423Z
UID:4317-1766658600-1766658600@paroisses-mnsh.fr
SUMMARY:Messe du jour de Noël - Eglise de Sainte-Hélène
DESCRIPTION:
URL:https://paroisses-mnsh.fr/evenement/messe-eglise-de-sainte-helene-8/
CATEGORIES:Evènement accueil
ATTACH;FMTTYPE=image/jpeg:https://paroisses-mnsh.fr/wp-content/uploads/2017/12/380px-Église_Sainte-Hélène_Sainte-Hélène_Morbihan_4121.jpg
END:VEVENT
BEGIN:VEVENT
DTSTART;TZID=Europe/Paris:20251228T103000
DTEND;TZID=Europe/Paris:20251228T103000
DTSTAMP:20260421T183130
CREATED:20251224T123318Z
LAST-MODIFIED:20251224T123318Z
UID:4326-1766917800-1766917800@paroisses-mnsh.fr
SUMMARY:Messe de la Sainte Famille - Eglise de Nostang
DESCRIPTION:
URL:https://paroisses-mnsh.fr/evenement/messe-de-la-sainte-famille-eglise-de-nostang/
CATEGORIES:Evènement accueil
ATTACH;FMTTYPE=image/jpeg:https://paroisses-mnsh.fr/wp-content/uploads/2024/01/63.presentation.de_.jesus_.au_.temple.jpg
END:VEVENT
END:VCALENDAR