BEGIN:VCALENDAR
VERSION:2.0
PRODID:-//Paroisses Merlevenez - ECPv6.15.20//NONSGML v1.0//EN
CALSCALE:GREGORIAN
METHOD:PUBLISH
X-ORIGINAL-URL:https://paroisses-mnsh.fr
X-WR-CALDESC:Évènements pour Paroisses Merlevenez
REFRESH-INTERVAL;VALUE=DURATION:PT1H
X-Robots-Tag:noindex
X-PUBLISHED-TTL:PT1H
BEGIN:VTIMEZONE
TZID:Europe/Paris
BEGIN:DAYLIGHT
TZOFFSETFROM:+0100
TZOFFSETTO:+0200
TZNAME:CEST
DTSTART:20250330T010000
END:DAYLIGHT
BEGIN:STANDARD
TZOFFSETFROM:+0200
TZOFFSETTO:+0100
TZNAME:CET
DTSTART:20251026T010000
END:STANDARD
BEGIN:DAYLIGHT
TZOFFSETFROM:+0100
TZOFFSETTO:+0200
TZNAME:CEST
DTSTART:20260329T010000
END:DAYLIGHT
BEGIN:STANDARD
TZOFFSETFROM:+0200
TZOFFSETTO:+0100
TZNAME:CET
DTSTART:20261025T010000
END:STANDARD
BEGIN:DAYLIGHT
TZOFFSETFROM:+0100
TZOFFSETTO:+0200
TZNAME:CEST
DTSTART:20270328T010000
END:DAYLIGHT
BEGIN:STANDARD
TZOFFSETFROM:+0200
TZOFFSETTO:+0100
TZNAME:CET
DTSTART:20271031T010000
END:STANDARD
END:VTIMEZONE
BEGIN:VEVENT
DTSTART;TZID=Europe/Paris:20260218T180000
DTEND;TZID=Europe/Paris:20260218T180000
DTSTAMP:20260421T152056
CREATED:20260217T075700Z
LAST-MODIFIED:20260217T075700Z
UID:4332-1771437600-1771437600@paroisses-mnsh.fr
SUMMARY:Mercredi des Cendres - Messe à l'église de Nostang
DESCRIPTION:
URL:https://paroisses-mnsh.fr/evenement/mercredi-des-cendres-messe-a-leglise-de-nostang/
CATEGORIES:Evènement accueil
ATTACH;FMTTYPE=image/jpeg:https://paroisses-mnsh.fr/wp-content/uploads/2017/12/Mercredi-cendres-merlevenez.jpg
END:VEVENT
BEGIN:VEVENT
DTSTART;TZID=Europe/Paris:20260224T180000
DTEND;TZID=Europe/Paris:20260224T180000
DTSTAMP:20260421T152056
CREATED:20251004T122643Z
LAST-MODIFIED:20260224T080445Z
UID:4278-1771956000-1771956000@paroisses-mnsh.fr
SUMMARY:Messe - Oratoire St Vincent Ferrier - Merlevenez
DESCRIPTION:
URL:https://paroisses-mnsh.fr/evenement/messe-oratoire-st-vincent-ferrier-merlevenez-3/
CATEGORIES:Evènement accueil
ATTACH;FMTTYPE=image/jpeg:https://paroisses-mnsh.fr/wp-content/uploads/2017/12/presbytere.jpg
END:VEVENT
BEGIN:VEVENT
DTSTART;TZID=Europe/Paris:20260227T173000
DTEND;TZID=Europe/Paris:20260227T173000
DTSTAMP:20260421T152056
CREATED:20260217T075912Z
LAST-MODIFIED:20260224T080852Z
UID:4334-1772213400-1772213400@paroisses-mnsh.fr
SUMMARY:Chemin de croix suivi de la messe - Eglise de Merlevenez
DESCRIPTION:
URL:https://paroisses-mnsh.fr/evenement/chemin-de-croix-suivi-de-la-messe-eglise-de-merlevenez-2/
CATEGORIES:Evènement accueil
ATTACH;FMTTYPE=image/jpeg:https://paroisses-mnsh.fr/wp-content/uploads/2017/12/Église_Notre-Dame-de-Joie_Merlevenez_3738.jpg
END:VEVENT
BEGIN:VEVENT
DTSTART;TZID=Europe/Paris:20260228T090000
DTEND;TZID=Europe/Paris:20260228T090000
DTSTAMP:20260421T152056
CREATED:20250910T182622Z
LAST-MODIFIED:20260224T081006Z
UID:4257-1772269200-1772269200@paroisses-mnsh.fr
SUMMARY:Messe suivie du chapelet - Oratoire St Vincent Ferrier - Merlevenez
DESCRIPTION:
URL:https://paroisses-mnsh.fr/evenement/messe-suivie-du-chapelet-oratoire-st-vincent-ferrier-merlevenez-3/
CATEGORIES:Evènement accueil
ATTACH;FMTTYPE=image/jpeg:https://paroisses-mnsh.fr/wp-content/uploads/2019/09/chapelet.jpg
END:VEVENT
END:VCALENDAR